BEGIN:VCALENDAR
VERSION:2.0
PRODID:www.alstom.com
BEGIN:VEVENT
UID:69e9b3244e350
DTSTART:20210706T070000Z
SEQUENCE:0
TRANSP:OPAQUE
DTEND:20210706T094500Z
URL:https://www.alstom.com/capital-markets-day-06072021
SUMMARY:Capital Markets Day 06/07/2021
CLASS:PUBLIC
DESCRIPTION:Alstom will hold a virtual Capital Markets Day on July 6\, 2021
 .\n\nDuration : 9 am CEST to 11:45 am CEST\n\nAGENDA:\n\n *  INTRODUCTION
 \, MARKET PERSPECTIVES\, STRATEGIC OVERVIEW \n\nHenri Poupart-Lafarge_\, 
 Chairman and Chief Executive Officer_\n\n * ROLLING STOCK AND COMPONENTS\n
 \nDanny Di Perna\, _Executive VP and Chief Operations Officer_\n\nBenjamin
  Fitoussi\, _President Rolling Stock and Components –\nDevelopment & Op
 erations_\n\n * SIGNALLING\n\nJean-François Beaudoin\, _President Digital
  & Integrated Systems_\n\n * SERVICES\n\nMatthew Byrne\, _President Servic
 es_\n\n * FINANCIAL FRAMEWORK\n\nLaurent Martinez\, _Chief Financial Offic
 er_\n\nQ&A SESSION\n\nTO CONNECT VIA PHONE (AUDIO ONLY) AND ASK YOUR QUEST
 ION DURING THE Q&A\nSESSION\, please use the numbers listed below with the
  CONFIRMATION\nCODE 'ALSTOM':\n\nLOCATION\n\nPHONE NUMBER\n\nCanada\, Toro
 nto \n\n+1 647 484 0477 \n\nFrance\, Paris \n\n+33 (0)1 76 77 25 07 \n\nUn
 ited Kingdom\, Local \n\n+44 (0)330 336 9434 \n\nCLICK BELOW TO LAUNCH THE
  WEBCAST (AUDIO & SLIDES)\n\n https://www.alstom.com/capital-markets-day-0
 6072021
DTSTAMP:20260423T055028Z
END:VEVENT
END:VCALENDAR