BEGIN:VCALENDAR
VERSION:2.0
PRODID:www.alstom.com
BEGIN:VEVENT
UID:69e9b34c94fe3
DTSTART:20210720T053000Z
SEQUENCE:0
TRANSP:OPAQUE
DTEND:20210720T063000Z
URL:https://www.alstom.com/fy-202122-first-quarter-orders-sales
SUMMARY:FY 2021/22 - First quarter orders & sales
CLASS:PUBLIC
DESCRIPTION:ALSTOM WILL ANNOUNCE ITS ORDERS & SALES FOR THE FIRST QUARTER O
 F THE\nFISCAL YEAR 2021/22 ON JULY 20\, 2021\n\nAGENDA\n\n * 7.30 AM (CEST
 ): Publication of press release\n * 08.30 AM (CEST): Live audiocast of the
  conference call with the\nanalysts\n * 20 JULY 2021 PM: Replay of the aud
 iocast\n\nTo participate in the Q&A SESSION via telephone (audio only)\, p
 lease\nuse the DIAL-IN NUMBERS below and the CONFIRMATION CODE 6682820\n\
 nLOCATION\n\nPHONE NUMBER\n\nCanada\, Toronto\n\n+1 647 484 0477\n\nFrance
 \, Paris\n\n+33 (0)1 70 72 25 50\n\nUnited Kingdom\n\n+44 (0)330 336 9126
  \n\nTO FOLLOW THE WEBCAST (SLIDES AND AUDIO ONLY)\, please use the link\
 nbelow. We recommend using Google Chrome for the best experience.\nhttps:/
 /www.alstom.com/fy-202122-first-quarter-orders-sales
DTSTAMP:20260423T055108Z
END:VEVENT
END:VCALENDAR