BEGIN:VCALENDAR
VERSION:2.0
PRODID:www.alstom.com
BEGIN:VEVENT
UID:69e8fb30b5d5c
DTSTART:20210728T120000Z
SEQUENCE:0
TRANSP:OPAQUE
DTEND:20210728T130000Z
URL:https://www.alstom.com/28072021-combined-annual-shareholders-meeting
SUMMARY:28/07/2021 Combined Annual Shareholders' Meeting
CLASS:PUBLIC
DESCRIPTION:ALSTOM HELD ITS COMBINED ANNUAL SHAREHOLDERS’ MEETING IN PERS
 ON\, ON\nJULY 28\, 2021 AT 2:00 PM at “CHÂTEAUFORM’ LE 28 GEORGE V
 ”\, 28\nAVENUE GEORGE V\, 75008 PARIS. The Shareholders’ Meeting was 
 be\nbroadcasted LIVE IN VIDEO AND IN FULL ON THE COMPANY’S WEBSITE VIA\
 nTHE WEBCAST LINK BELOW. \n\nDOCUMENTS\n\n https://www.alstom.com/2807202
 1-combined-annual-shareholders-meeting
DTSTAMP:20260422T164536Z
END:VEVENT
END:VCALENDAR