BEGIN:VCALENDAR
VERSION:2.0
PRODID:www.alstom.com
BEGIN:VEVENT
UID:69e8f982c48c0
DTSTART:20211110T063000Z
SEQUENCE:0
TRANSP:OPAQUE
DTEND:20211110T073000Z
URL:https://www.alstom.com/fy-202122-half-year-results
SUMMARY:FY 2021/22 - Half-Year results
CLASS:PUBLIC
DESCRIPTION:Alstom will announce its half year results for the fiscal year 
 2021/22\non November 10\, 2021.\n\nAGENDA\n\n * 07:30 AM (CET): Publicatio
 n of press release\, presentation\,\nmanagement report and consolidated fi
 nancial statements\n * 08:30 AM (CET): Live audiocast of the conference ca
 ll with the\nanalysts\n * 10 NOVEMBER 2021 PM: Replay of the audiocast\n\n
 To participate in the Q&A SESSION via telephone (audio only)\, please\nu
 se the DIAL-IN NUMBERS below and the CONFIRMATION CODE 2527896\n\nLOCA
 TION\n\nPHONE NUMBER\n\nCanada\, Toronto\n\n+1 647 794 4605 \n\nFrance\, 
 Paris\n\n+33 (0)1 70 72 25 50 \n\nUnited Kingdom\n\n+44 (0)330 336 9105 
 \n\nUnited States\, Brooklyn\n\n+1 929-477-0402\n\nUnited States\, Los Ang
 eles\n\n+1 323-994-2093\n\nTO FOLLOW THE WEBCAST (SLIDES AND AUDIO ONLY)\,
  please use the link\nbelow. We recommend using Google Chrome for the best
  experience.\nhttps://www.alstom.com/fy-202122-half-year-results
DTSTAMP:20260422T163826Z
END:VEVENT
END:VCALENDAR