BEGIN:VCALENDAR
VERSION:2.0
PRODID:www.alstom.com
BEGIN:VEVENT
UID:69e83e331faf6
DTSTART:20220712T120000Z
SEQUENCE:0
TRANSP:OPAQUE
DTEND:20220712T130000Z
URL:[node:path]
SUMMARY:Combined Shareholders’ Meeting 12/07/2022
CLASS:PUBLIC
DESCRIPTION:ALSTOM’S COMBINED ANNUAL SHAREHOLDERS’ MEETING WAS HELD ON 
 JULY\n12\, 2022 AT 2:00 PM AT “CHÂTEAUFORM’ LE 28 GEORGE V”\,  2
 8\nAVENUE GEORGE V\, 75008 PARIS.\n\n \n[node:path]
DTSTAMP:20260422T031915Z
END:VEVENT
END:VCALENDAR