BEGIN:VCALENDAR
VERSION:2.0
PRODID:www.alstom.com
BEGIN:VEVENT
UID:69e8866cdaebc
DTSTART:20221116T063004Z
SEQUENCE:0
TRANSP:OPAQUE
DTEND:20221116T073004Z
URL:[node:path]
SUMMARY:FY 2022/23 - Half-Year results
CLASS:PUBLIC
DESCRIPTION:AGENDA\n\n * 07:30 AM (CET): Publication of press release\, pre
 sentation\,\nmanagement report and consolidated financial statements\n * 0
 8:30 AM (CET): Live audiocast of the conference call with the\nanalysts\n 
 * 16 NOVEMBER 2022 (AFTERNOON): Replay of the audiocast\n\nTo participate 
 in the Q&A SESSION via telephone (audio only)\, please\nuse the DIAL-IN
  NUMBERS below. Quote ALSTOM to the operator to be\ntransferred to the a
 ppropriate conference.\n\nTo ensure you will be registered on time and gra
 nted the full event\nexperience\, IT IS STRONGLY ADVISED TO CONNECT 10 MIN
 UTES IN ADVANCE.\n\nLOCATION\n\nPHONE NUMBER\n\nCanada\n\n1 866 378 3566 (
 toll free)\n\nFrance\n\n+33 (0) 1 7037 7166\n\nUnited Kingdom\n\n+44 (0) 3
 3 0551 0200 \n\nUnited States\n\n+1 212 999 6659\n\nTO FOLLOW THE WEBCAST
  (SLIDES AND AUDIO ONLY)\, please use the link\nbelow. We recommend using 
 Google Chrome for the best experience.\n[node:path]
DTSTAMP:20260422T082724Z
END:VEVENT
END:VCALENDAR