BEGIN:VCALENDAR
VERSION:2.0
PRODID:www.alstom.com
BEGIN:VEVENT
UID:69e72015d4fe0
DTSTART:20230510T053000Z
SEQUENCE:0
TRANSP:OPAQUE
DTEND:20230510T063000Z
URL:[node:path]
SUMMARY:FY 2022/23 - Annual Results
CLASS:PUBLIC
DESCRIPTION:Alstom will announce its Annual Financial Results for the fisca
 l year\n2022/23 on May 10\, 2023.\n\nAGENDA\n\n * 07:30 AM (CET): Publicat
 ion of press release\n * 08:30 AM (CET): Live webcast of the conference ca
 ll with the\nanalysts\n * 10 MAY 2023 (AFTERNOON): Replay of the webcast\
 n\nCONFERENCE CALL\n\nTo ensure you will be registered on time and granted
  the full event\nexperience\, IT IS STRONGLY ADVISED TO CONNECT 10 MINUTE
 S IN ADVANCE.\nPlease use the DIAL-IN NUMBERS below and then QUOTE \"A
 LSTOM\nRESULTS\".\n\nFRANCE:\n\n+33 (0) 1 7037 7166\n\nUK: \n\n+44 (0) 33 
 0551 0200\n\nUSA:\n\n+1 786 697 3501\n\n [node:path]
DTSTAMP:20260421T065829Z
END:VEVENT
END:VCALENDAR