BEGIN:VCALENDAR
VERSION:2.0
PRODID:www.alstom.com
BEGIN:VEVENT
UID:69e639ca8b6e4
DTSTART:20230725T053000Z
SEQUENCE:0
TRANSP:OPAQUE
DTEND:20230810T063000Z
URL:[node:path]
SUMMARY:FY 2023/24 - First quarter orders & sales
CLASS:PUBLIC
DESCRIPTION:Alstom will announce the financial results for the first quarte
 r of FY\n2023/24 on 25 July 2023.\n\nAGENDA\n\n * 07:30 AM (CET): Publicat
 ion of press release\n * 08:30 AM (CET): Live webcast of the conference ca
 ll with the\nanalysts\n * AFTERNOON: Replay of the webcast\n\nCONFERENCE C
 ALL\n\nTo ensure you will be registered on time and granted the full event
 \nexperience\, IT IS STRONGLY ADVISED TO CONNECT 10 MINUTES IN\nADVANCE.
  Please use the DIAL-IN NUMBERS below and\nthen QUOTE \"ALSTOM\".\n\n
 FRANCE:\n\n+33 (0) 1 7037 7166\n\nUK:\n\n+44 (0) 33 0551 0200\n\nUSA:\n\n+
 1 212 999 6659\n\nCANADA (TOLL-FREE)\n\n+1 866 378 3566 \n\n [node:path]
DTSTAMP:20260420T143554Z
END:VEVENT
END:VCALENDAR