BEGIN:VCALENDAR
VERSION:2.0
PRODID:www.alstom.com
BEGIN:VEVENT
UID:69e5bbf3da847
DTSTART:20231115T063000Z
SEQUENCE:0
TRANSP:OPAQUE
DTEND:20231115T090000Z
URL:[node:path]
SUMMARY:FY 2023/24 - Half-Year results
CLASS:PUBLIC
DESCRIPTION:AGENDA\n\n * 07:30 AM (CET): Publication of press release\, pre
 sentation\,\nmanagement report and consolidated financial statements\n * 0
 8:30 AM (CET): Live audiocast of the conference call with the\nanalysts\n 
 * 15 NOVEMBER 2022 (AFTERNOON): Replay of the audiocast\n\n \n\nCONFERENC
 E CALL\n\nTo participate in the Q&A SESSION via telephone (audio only)\,
  please\nuse the DIAL-IN NUMBERS below and then QUOTE \"ALSTOM\".\n\nT
 o ensure you will be registered on time\, it is strongly advised to\nCONN
 ECT 10 MINUTES IN ADVANCE. \n\nFRANCE\n\n+33 (0) 1 7037 7166\n\nUK\n\n+44
  (0) 33 0551 0200\n\nUSA\n\n+1 212 999 6659\n\nCANADA\n\n1 866 378 3566 (t
 oll free)\n\n [node:path]
DTSTAMP:20260420T053859Z
END:VEVENT
END:VCALENDAR