BEGIN:VCALENDAR
VERSION:2.0
PRODID:www.alstom.com
BEGIN:VEVENT
UID:69e8a43b6ca05
DTSTART:20210720T053000Z
SEQUENCE:0
TRANSP:OPAQUE
DTEND:20210720T063000Z
URL:https://www.alstom.com/fr/ex-202122-commandes-et-chiffre-daffaires-au-p
 remier-trimestre
SUMMARY:Ex 2021/22 - Commandes et chiffre d'affaires au premier trimestre
CLASS:PUBLIC
DESCRIPTION:ALSTOM ANNONCERA LES COMMANDES ET CHIFFRE D'AFFAIRES DU 1ER TRI
 MESTRE\nDE L'EXERCICE 2021/22 LE 20 JUILLET 2021\n\nAGENDA\n\n * 07H30 (CE
 ST) : Publication du communiqué de presse\n * 08H30 (CEST) : Retransmissi
 on en direct de la conférence\ntéléphonique avec les analystes\n * APR
 ÈS-MIDI : Mise en ligne de l'enregistrement de la conférence\ntéléphon
 ique avec les analystes.\n\nPour participer à la SESSION QUESTIONS/RÉPON
 SES par téléphone\n(AUDIO UNIQUEMENT)\, merci d'utiliser les numéros c
 i-dessous avec le\nCODE DE CONFIRMATION 6682820\n\n \n\n PAYS\n NUMÉRO\
 n\n Canada\, Toronto\n +1 647 484 0477\n\n France\, Paris\n +33 (0)1 70 72
  25 50\n\n Royaume-Uni\n +44 (0)330 336 9126 \n\nPour suivre le WEBCAST (
 PRÉSENTATION ET AUDIO)\, veuillez utiliser le\nlien ci-dessous. Nous reco
 mmandons d'utiliser Google Chrome pour la\nmeilleure expérience.\nhttps:/
 /www.alstom.com/fr/ex-202122-commandes-et-chiffre-daffaires-au-premier-tri
 mestre
DTSTAMP:20260422T103435Z
END:VEVENT
END:VCALENDAR