BEGIN:VCALENDAR
VERSION:2.0
PRODID:www.alstom.com
BEGIN:VEVENT
UID:69e8a43c18951
DTSTART:20210728T120000Z
SEQUENCE:0
TRANSP:OPAQUE
DTEND:20210728T130000Z
URL:https://www.alstom.com/fr/28072021-assemblee-generale-mixte
SUMMARY:28/07/2021 Assemblée Générale Mixte
CLASS:PUBLIC
DESCRIPTION:L'ASSEMBLÉE GÉNÉRALE MIXTE D'ALSTOM S'EST TENUE DE MANIÈRE\
 nPRÉSENTIELLE LE 28 JUILLET 2021 À 14H00 AU « CHÂTEAUFORM’ LE 28\nG
 EORGE V »\, 28 AVENUE GEORGE V\, 75008 PARIS. \n\nDOCUMENTS\n\n https:/
 /www.alstom.com/fr/28072021-assemblee-generale-mixte
DTSTAMP:20260422T103436Z
END:VEVENT
END:VCALENDAR