BEGIN:VCALENDAR
VERSION:2.0
PRODID:www.alstom.com
BEGIN:VEVENT
UID:69e5eb9b23c99
DTSTART:20231115T063000Z
SEQUENCE:0
TRANSP:OPAQUE
DTEND:20231115T090000Z
URL:[node:path]
SUMMARY:Ex 2023/24 - Résultats semestriels
CLASS:PUBLIC
DESCRIPTION:ORDRE DU JOUR\n\n * 7H30 : Publication du communiqué de press
 e\, de la présentation\,\ndu rapport financier et des états financiers c
 onsolidés\n * 8H30 : Retransmission en direct de la conférence téléph
 onique\navec les analystes (en anglais)\n * APRÈS-MIDI : Mise en ligne d
 e l'enregistrement de la conférence\ntéléphonique avec les analystes\n\
 n \n\n \n\nCONFÉRENCE TÉLÉPHONIQUE\n\nPour participer à la session d
 e questions-réponses par téléphone\n(audio uniquement)\, veuillez utili
 ser les numéros d'appel ci-dessous.\nIndiquez ALSTOM à l'opérateur pou
 r être transféré à la\nconférence.\n\nPour être sûr d'être enregis
 tré à l'heure et de profiter\npleinement de l'événement\, il est forte
 ment conseillé de se\nconnecter 10 minutes à l'avance.   \n\nFRANCE\n\
 n+33 (0) 1 7037 7166\n\nROYAUME-UNI\n\n+44 (0) 33 0551 0200\n\nETATS-UNIS\
 n\n+1 212 999 6659\n\nCANADA\n\n1 866 378 3566\n\n \n[node:path]
DTSTAMP:20260420T090219Z
END:VEVENT
END:VCALENDAR